BEGIN:VCALENDAR
VERSION:2.0
PRODID:DPCALENDAR
CALSCALE:GREGORIAN
X-WR-TIMEZONE:UTC
BEGIN:VEVENT
DTSTART;TZID=UTC:20200927T100000
DTEND;TZID=UTC:20200927T110000
UID:4D4872E2-7FB4-4842-AD85-61974763150C
SUMMARY:TuS Ampen 1 : Lüner SV 1
CREATED:20200922T091711Z
DTSTAMP:20200922T091711Z
URL:http://www.tusampen-tennis.de/index.php/component/dpcalendar/event/1?calid=9
LAST-MODIFIED:20200922T180151Z
SEQUENCE:31480
LOCATION:An der Landwehr 24\, 59494 Soest\, Nordrhein-Westfalen
GEO:51.54916340;8.05345122
X-LOCATION-DISPLAYNAME:Tennisheim TuS Ampen
X-ACCESS:1
X-HITS:679
X-COLOR:046b12
X-SHOW-END-TIME:0
END:VEVENT
END:VCALENDAR