BEGIN:VCALENDAR
VERSION:2.0
PRODID:DPCALENDAR
CALSCALE:GREGORIAN
X-WR-TIMEZONE:UTC
BEGIN:VEVENT
DTSTART;TZID=UTC:20201031T103000
DTEND;TZID=UTC:20201031T113000
UID:AE1C9C0C-6A02-4EB8-9F25-5650E18544B6
SUMMARY:Erster Arbeitseinsatz
CREATED:20201020T173159Z
DTSTAMP:20201020T173159Z
URL:http://www.tusampen-tennis.de/index.php/component/dpcalendar/event/2?calid=10
DESCRIPTION:Hallo Tennisfreunde,\Nauf Grund der neuen Corona Situation haben Olli und ich beschlossen die Plätze schon am Samstag,31.10.2020, 10.30 Uhr Winterfest zu machen.\NBleibt gesund und herzliche Grüße\NRainer Hannß\N_______________________________________________\NSo hat jeder nochmal die Gelegenheit sein Stundenkonto zu vervollständigen.\NÜber eine rege Beteiligung würden wir uns sehr freuen.
X-ALT-DESC;FMTTYPE=text/html:<p>Hallo Tennisfreunde,</p><p>auf Grund der neuen Corona Situation haben Olli und ich beschlossen die Plätze schon am Samstag,31.10.2020, 10.30 Uhr Winterfest zu machen.</p><p>Bleibt gesund und herzliche Grüße</p><p>Rainer Hannß</p><p>_______________________________________________</p><p>So hat jeder nochmal die Gelegenheit sein Stundenkonto zu vervollständigen.</p><p>Über eine rege Beteiligung würden wir uns sehr freuen.</p>
LAST-MODIFIED:20201029T175757Z
SEQUENCE:779158
X-ACCESS:1
X-HITS:740
X-COLOR:00ffff
X-SHOW-END-TIME:0
END:VEVENT
BEGIN:VEVENT
DTSTART;TZID=UTC:20211030T110000
DTEND;TZID=UTC:20211030T140000
UID:2BCF2FC2-6370-451D-A6FD-889A268A3F06
SUMMARY:Plätze winterfest machen
CREATED:20211027T163925Z
DTSTAMP:20211027T163925Z
URL:http://www.tusampen-tennis.de/index.php/component/dpcalendar/event/7?calid=10
DESCRIPTION:Plätze winterfest machen.\NJedes Mitglied hat die Möglichkeit, seine 5 Arbeitsstunden zu erreichen.\N(Es dürfen auch mehr sein).
X-ALT-DESC;FMTTYPE=text/html:<p>Plätze winterfest machen.</p><p>Jedes Mitglied hat die Möglichkeit, seine 5 Arbeitsstunden zu erreichen.</p><p>(Es dürfen auch mehr sein).</p>
LOCATION:An der Landwehr 24\, 59494 Soest\, Nordrhein-Westfalen
GEO:51.54916340;8.05345122
X-LOCATION-DISPLAYNAME:Tennisheim TuS Ampen
X-ACCESS:1
X-HITS:843
X-COLOR:00ffff
X-SHOW-END-TIME:1
END:VEVENT
BEGIN:VEVENT
DTSTART;TZID=UTC:20220326T103000
DTEND;TZID=UTC:20220326T123000
UID:772BF932-13B5-4EBA-9CC7-10331AC96E35
SUMMARY:Plätze fertig machen (1. Arbeitseinsatz)
CREATED:20220311T091534Z
DTSTAMP:20220311T091534Z
URL:http://www.tusampen-tennis.de/index.php/component/dpcalendar/event/8?calid=10
DESCRIPTION:Die Plätze werden fertig gemacht!Voraussetzung ist eine ordentliche Wetterlage.\NAlle weiteren Termine gebe ich rechtzeitig bekannt.\NIch würde mich freuen euch gesund und munter an den Plätzen begrüßen zu können.         \N                        Mit sportlichen Grüßen\N                              Rainer Hannß
X-ALT-DESC;FMTTYPE=text/html:<p>Die Plätze werden fertig gemacht!<br />Voraussetzung ist eine ordentliche Wetterlage.</p><p>Alle weiteren Termine gebe ich rechtzeitig bekannt.</p><p>Ich würde mich freuen euch gesund und munter an den Plätzen begrüßen zu können.&nbsp;&nbsp;&nbsp;&nbsp;&nbsp;&nbsp;&nbsp;&nbsp;&nbsp;</p><p>&nbsp;&nbsp;&nbsp;&nbsp;&nbsp;&nbsp;&nbsp;&nbsp;&nbsp;&nbsp;&nbsp;&nbsp;&nbsp;&nbsp;&nbsp;&nbsp;&nbsp;&nbsp;&nbsp;&nbsp;&nbsp;&nbsp;&nbsp; Mit sportlichen Grüßen</p><p>&nbsp;&nbsp;&nbsp;&nbsp;&nbsp;&nbsp;&nbsp;&nbsp;&nbsp;&nbsp;&nbsp;&nbsp;&nbsp;&nbsp;&nbsp;&nbsp;&nbsp;&nbsp;&nbsp;&nbsp;&nbsp;&nbsp;&nbsp;&nbsp;&nbsp;&nbsp;&nbsp;&nbsp;&nbsp; Rainer Hannß</p>
LOCATION:An der Landwehr 24\, 59494 Soest\, Nordrhein-Westfalen
GEO:51.54916340;8.05345122
X-LOCATION-DISPLAYNAME:Tennisheim TuS Ampen
X-ACCESS:1
X-HITS:1038
X-COLOR:00ffff
X-SHOW-END-TIME:0
END:VEVENT
BEGIN:VEVENT
DTSTART;TZID=UTC:20220402T103000
DTEND;TZID=UTC:20220402T123000
UID:772BF932-13B5-4EBA-9CC7-10331AC96E35
SUMMARY:Entfällt - Plätze fertig machen 
CREATED:20220311T091534Z
DTSTAMP:20220311T091534Z
URL:http://www.tusampen-tennis.de/index.php/component/dpcalendar/event/9?calid=10
DESCRIPTION:Aufgrund der aktuellen Weterlage wird der Termin gestrichen.
X-ALT-DESC;FMTTYPE=text/html:<p>Aufgrund der aktuellen Weterlage wird der Termin gestrichen.</p>
LAST-MODIFIED:20220401T172604Z
SEQUENCE:1843830
LOCATION:An der Landwehr 24\, 59494 Soest\, Nordrhein-Westfalen
GEO:51.54916340;8.05345122
X-LOCATION-DISPLAYNAME:Tennisheim TuS Ampen
X-ACCESS:1
X-HITS:1048
X-COLOR:00ffff
X-SHOW-END-TIME:0
END:VEVENT
BEGIN:VEVENT
DTSTART;TZID=UTC:20220409T110000
DTEND;TZID=UTC:20220409T130000
UID:772BF932-13B5-4EBA-9CC7-10331AC96E35
SUMMARY:Plätze fertig machen (2. Arbeitseinsatz)
CREATED:20220311T091534Z
DTSTAMP:20220311T091534Z
URL:http://www.tusampen-tennis.de/index.php/component/dpcalendar/event/10?calid=10
DESCRIPTION:Die Plätze werden fertig gemacht!Voraussetzung ist eine ordentliche Wetterlage.
X-ALT-DESC;FMTTYPE=text/html:<p>Die Plätze werden fertig gemacht!<br />Voraussetzung ist eine ordentliche Wetterlage.</p>
LAST-MODIFIED:20220401T215418Z
SEQUENCE:1859924
X-ACCESS:1
X-HITS:1051
X-COLOR:00ffff
X-SHOW-END-TIME:0
END:VEVENT
BEGIN:VEVENT
DTSTART;TZID=UTC:20221112T110000
DTEND;TZID=UTC:20221112T140000
UID:EE8B0C18-D21F-4123-AF90-C1AA74CC72BF
SUMMARY:Plätze winterfest machen
CREATED:20211027T163925Z
DTSTAMP:20211027T163925Z
URL:http://www.tusampen-tennis.de/index.php/component/dpcalendar/event/14?calid=10
DESCRIPTION:Plätze winterfest machen.\NJedes Mitglied hat die Möglichkeit, seine 5 Arbeitsstunden zu erreichen.\N(Es dürfen auch mehr sein).
X-ALT-DESC;FMTTYPE=text/html:<p>Plätze winterfest machen.</p><p>Jedes Mitglied hat die Möglichkeit, seine 5 Arbeitsstunden zu erreichen.</p><p>(Es dürfen auch mehr sein).</p>
LOCATION:An der Landwehr 24\, 59494 Soest\, Nordrhein-Westfalen
GEO:51.54916340;8.05345122
X-LOCATION-DISPLAYNAME:Tennisheim TuS Ampen
X-ACCESS:1
X-HITS:1089
X-COLOR:00ffff
X-SHOW-END-TIME:0
END:VEVENT
BEGIN:VEVENT
DTSTART;TZID=UTC:20221119T110000
DTEND;TZID=UTC:20221119T140000
UID:EE8B0C18-D21F-4123-AF90-C1AA74CC72BF
SUMMARY:Plätze winterfest machen
CREATED:20211027T163925Z
DTSTAMP:20211027T163925Z
URL:http://www.tusampen-tennis.de/index.php/component/dpcalendar/event/15?calid=10
DESCRIPTION:Plätze winterfest machen.\NJedes Mitglied hat die Möglichkeit, seine 5 Arbeitsstunden zu erreichen.\N(Es dürfen auch mehr sein).
X-ALT-DESC;FMTTYPE=text/html:<p>Plätze winterfest machen.</p><p>Jedes Mitglied hat die Möglichkeit, seine 5 Arbeitsstunden zu erreichen.</p><p>(Es dürfen auch mehr sein).</p>
LAST-MODIFIED:20220927T093933Z
SEQUENCE:28918808
X-ACCESS:1
X-HITS:1123
X-COLOR:00ffff
X-SHOW-END-TIME:0
END:VEVENT
BEGIN:VEVENT
DTSTART;TZID=UTC:20221126T110000
DTEND;TZID=UTC:20221126T140000
UID:EE8B0C18-D21F-4123-AF90-C1AA74CC72BF
SUMMARY:Plätze winterfest machen
CREATED:20211027T163925Z
DTSTAMP:20211027T163925Z
URL:http://www.tusampen-tennis.de/index.php/component/dpcalendar/event/16?calid=10
DESCRIPTION:Plätze winterfest machen.\NJedes Mitglied hat die Möglichkeit, seine 5 Arbeitsstunden zu erreichen.\N(Es dürfen auch mehr sein).
X-ALT-DESC;FMTTYPE=text/html:<p>Plätze winterfest machen.</p><p>Jedes Mitglied hat die Möglichkeit, seine 5 Arbeitsstunden zu erreichen.</p><p>(Es dürfen auch mehr sein).</p>
LAST-MODIFIED:20220927T093950Z
SEQUENCE:28918825
X-ACCESS:1
X-HITS:1288
X-COLOR:00ffff
X-SHOW-END-TIME:0
END:VEVENT
BEGIN:VEVENT
DTSTART;TZID=UTC:20230415T100000
DTEND;TZID=UTC:20230415T120000
UID:367E0E10-2A4D-49E4-9E58-B9D9E146A275
SUMMARY:Plätze fertig machen
CREATED:20220311T091534Z
DTSTAMP:20220311T091534Z
URL:http://www.tusampen-tennis.de/index.php/component/dpcalendar/event/19?calid=10
DESCRIPTION:Die Plätze werden fertig gemacht!Voraussetzung ist eine ordentliche Wetterlage.
X-ALT-DESC;FMTTYPE=text/html:<p>Die Plätze werden fertig gemacht!<br />Voraussetzung ist eine ordentliche Wetterlage.</p>
LAST-MODIFIED:20230411T122042Z
SEQUENCE:34225508
X-ACCESS:1
X-HITS:1050
X-COLOR:00ffff
X-SHOW-END-TIME:0
END:VEVENT
BEGIN:VEVENT
DTSTART;TZID=UTC:20231118T100000
DTEND;TZID=UTC:20231118T110000
UID:86D336D0-3814-42B1-96D3-1B6704530275
SUMMARY:Plätze winterfest machen
CREATED:20230928T165544Z
DTSTAMP:20230928T165544Z
URL:http://www.tusampen-tennis.de/index.php/component/dpcalendar/event/25?calid=10
DESCRIPTION:Die Arbeitseinsätze finden am 18.11.2023 und am 25.11.2023 jeweils um 10 Uhr statt. Wenn ihr an anderen Terminen Arbeitsstunden leisten möchtet, könnt ihr euch bei Markus Nagel melden (017640005532).
X-ALT-DESC;FMTTYPE=text/html:<p>Die Arbeitseinsätze finden am 18.11.2023 und am 25.11.2023 jeweils um 10 Uhr statt. Wenn ihr an anderen Terminen Arbeitsstunden leisten möchtet, könnt ihr euch bei Markus Nagel melden (017640005532).</p>
X-ACCESS:1
X-HITS:1158
X-COLOR:00ffff
X-SHOW-END-TIME:0
END:VEVENT
BEGIN:VEVENT
DTSTART;TZID=UTC:20231125T100000
DTEND;TZID=UTC:20231125T110000
UID:86D336D0-3814-42B1-96D3-1B6704530275
SUMMARY:Plätze winterfest machen
CREATED:20230928T165544Z
DTSTAMP:20230928T165544Z
URL:http://www.tusampen-tennis.de/index.php/component/dpcalendar/event/26?calid=10
DESCRIPTION:Die Arbeitseinsätze finden am 18.11.2023 und am 25.11.2023 jeweils um 10 Uhr statt. Wenn ihr an anderen Terminen Arbeitsstunden leisten möchtet, könnt ihr euch bei Markus Nagel melden (017640005532).
X-ALT-DESC;FMTTYPE=text/html:<p>Die Arbeitseinsätze finden am 18.11.2023 und am 25.11.2023 jeweils um 10 Uhr statt. Wenn ihr an anderen Terminen Arbeitsstunden leisten möchtet, könnt ihr euch bei Markus Nagel melden (017640005532).</p>
LAST-MODIFIED:20230928T165649Z
SEQUENCE:65
X-ACCESS:1
X-HITS:1178
X-COLOR:00ffff
X-SHOW-END-TIME:0
END:VEVENT
BEGIN:VEVENT
DTSTART;TZID=UTC:20240309T100000
DTEND;TZID=UTC:20240309T110000
UID:DF7D6FEF-4C57-4FD5-8717-259DE51F3B1C
SUMMARY:Arbeitseinsatz
CREATED:20240305T174637Z
DTSTAMP:20240305T174637Z
URL:http://www.tusampen-tennis.de/index.php/component/dpcalendar/event/27?calid=10
DESCRIPTION:Firma Saremba hat sich für die 12.Kw zur Aufarbeitung der Tennisplätze angemeldet
X-ALT-DESC;FMTTYPE=text/html:<p>Firma Saremba hat sich für die 12.Kw zur Aufarbeitung der Tennisplätze angemeldet</p>
LOCATION:An der Landwehr 24\, 59494 Soest\, Nordrhein-Westfalen
GEO:51.54916340;8.05345122
X-LOCATION-DISPLAYNAME:Tennisheim TuS Ampen
X-ACCESS:1
X-HITS:813
X-COLOR:00ffff
X-SHOW-END-TIME:0
END:VEVENT
BEGIN:VEVENT
DTSTART;TZID=UTC:20240316T100000
DTEND;TZID=UTC:20240316T110000
UID:694136CF-D6E8-482B-BF9A-29A53CA5ED3C
SUMMARY:Arbeitseinsatz
CREATED:20240305T174721Z
DTSTAMP:20240305T174721Z
URL:http://www.tusampen-tennis.de/index.php/component/dpcalendar/event/28?calid=10
DESCRIPTION:Firma Saremba hat sich für die 12.Kw zur Aufarbeitung der Tennisplätze angemeldet
X-ALT-DESC;FMTTYPE=text/html:<p>Firma Saremba hat sich für die 12.Kw zur Aufarbeitung der Tennisplätze angemeldet</p>
LOCATION:An der Landwehr 24\, 59494 Soest\, Nordrhein-Westfalen
GEO:51.54916340;8.05345122
X-LOCATION-DISPLAYNAME:Tennisheim TuS Ampen
X-ACCESS:1
X-HITS:884
X-COLOR:00ffff
X-SHOW-END-TIME:0
END:VEVENT
BEGIN:VEVENT
DTSTART;TZID=UTC:20240406T100000
DTEND;TZID=UTC:20240406T110000
UID:24C92F4F-2D1C-4104-BF09-E6A0BF33687A
SUMMARY:Arbeitseinsatz
CREATED:20240319T144807Z
DTSTAMP:20240319T144807Z
URL:http://www.tusampen-tennis.de/index.php/component/dpcalendar/event/30?calid=10
DESCRIPTION:Wer vorher schon etwas arbeiten möchte müsste sich mit Jan oder Axel in Verbindung setzen.\NMarkus Nagel ist in der kommenden Woche im Urlaub.\NMit sportlichen Grüßen\NRainer
X-ALT-DESC;FMTTYPE=text/html:<p>Wer vorher schon etwas arbeiten möchte müsste sich mit Jan oder Axel in Verbindung setzen.</p><p>Markus Nagel ist in der kommenden Woche im Urlaub.</p><p>Mit sportlichen Grüßen</p><p>Rainer</p>
LOCATION:An der Landwehr 24\, 59494 Soest\, Nordrhein-Westfalen
GEO:51.54916340;8.05345122
X-LOCATION-DISPLAYNAME:Tennisheim TuS Ampen
X-ACCESS:1
X-HITS:957
X-COLOR:00ffff
X-SHOW-END-TIME:0
END:VEVENT
BEGIN:VEVENT
DTSTART;TZID=UTC:20240413T100000
DTEND;TZID=UTC:20240413T110000
UID:4CBDC0FE-7DA9-4107-B2A7-0C9D6CA96DC7
SUMMARY:Arbeitseinsatz
CREATED:20240319T144903Z
DTSTAMP:20240319T144903Z
URL:http://www.tusampen-tennis.de/index.php/component/dpcalendar/event/31?calid=10
DESCRIPTION:Wer vorher schon etwas arbeiten möchte müsste sich mit Jan oder Axel in Verbindung setzen.\NMarkus Nagel ist in der kommenden Woche im Urlaub.\NMit sportlichen Grüßen\NRainer
X-ALT-DESC;FMTTYPE=text/html:<p>Wer vorher schon etwas arbeiten möchte müsste sich mit Jan oder Axel in Verbindung setzen.</p><p>Markus Nagel ist in der kommenden Woche im Urlaub.</p><p>Mit sportlichen Grüßen</p><p>Rainer</p>
LOCATION:An der Landwehr 24\, 59494 Soest\, Nordrhein-Westfalen
GEO:51.54916340;8.05345122
X-LOCATION-DISPLAYNAME:Tennisheim TuS Ampen
X-ACCESS:1
X-HITS:1028
X-COLOR:00ffff
X-SHOW-END-TIME:0
END:VEVENT
BEGIN:VEVENT
DTSTART;TZID=UTC:20241102T100000
DTEND;TZID=UTC:20241102T110000
UID:49CA90F7-0544-4EEE-925C-5377415C7392
SUMMARY:Plätze winterfest machen
CREATED:20241014T205423Z
DTSTAMP:20241014T205423Z
URL:http://www.tusampen-tennis.de/index.php/component/dpcalendar/event/33?calid=10
DESCRIPTION:Hallo Tennisfreunde,\Ndie Tennisplätze wollen wir gemeinsam für den Winter fertig machen. Die Termine haben der Vorstand festgelegt:\N1.Termin Samstag 2.11.2024, 10.00Uhr.\N2.Termin Samstag 16.11.2024 10.00 Uhr.\NHier können noch Arbeitsstunden gutgeschrieben werden.\NEs dürfen aber auch die 5 Pflichtstunden überschritten werden. ?\NDie Leitung für die Arbeitseinsätze hat unser Platzwart Markus Nagel.\NMit sportlichen Grüßen\NRainer
X-ALT-DESC;FMTTYPE=text/html:<p>Hallo Tennisfreunde,</p><p>die Tennisplätze wollen wir gemeinsam für den Winter fertig machen. Die Termine haben der Vorstand festgelegt:</p><p>1.Termin Samstag 2.11.2024, 10.00Uhr.</p><p>2.Termin Samstag 16.11.2024 10.00 Uhr.</p><p>Hier können noch Arbeitsstunden gutgeschrieben werden.</p><p>Es dürfen aber auch die 5 Pflichtstunden überschritten werden. ?</p><p>Die Leitung für die Arbeitseinsätze hat unser Platzwart Markus Nagel.</p><p>Mit sportlichen Grüßen</p><p>Rainer</p>
X-ACCESS:1
X-HITS:1262
X-COLOR:00ffff
X-SHOW-END-TIME:0
END:VEVENT
BEGIN:VEVENT
DTSTART;TZID=UTC:20241116T100000
DTEND;TZID=UTC:20241116T110000
UID:9FE8BC9A-08F2-4AA2-8C39-A590864A9E45
SUMMARY:Plätze winterfest machen
CREATED:20241014T205512Z
DTSTAMP:20241014T205512Z
URL:http://www.tusampen-tennis.de/index.php/component/dpcalendar/event/34?calid=10
DESCRIPTION:Hallo Tennisfreunde,\Ndie Tennisplätze wollen wir gemeinsam für den Winter fertig machen. Die Termine haben der Vorstand festgelegt:\N1.Termin Samstag 2.11.2024, 10.00Uhr.\N2.Termin Samstag 16.11.2024 10.00 Uhr.\NHier können noch Arbeitsstunden gutgeschrieben werden.\NEs dürfen aber auch die 5 Pflichtstunden überschritten werden. ?\NDie Leitung für die Arbeitseinsätze hat unser Platzwart Markus Nagel.\NMit sportlichen Grüßen\NRainer
X-ALT-DESC;FMTTYPE=text/html:<p>Hallo Tennisfreunde,</p><p>die Tennisplätze wollen wir gemeinsam für den Winter fertig machen. Die Termine haben der Vorstand festgelegt:</p><p>1.Termin Samstag 2.11.2024, 10.00Uhr.</p><p>2.Termin Samstag 16.11.2024 10.00 Uhr.</p><p>Hier können noch Arbeitsstunden gutgeschrieben werden.</p><p>Es dürfen aber auch die 5 Pflichtstunden überschritten werden. ?</p><p>Die Leitung für die Arbeitseinsätze hat unser Platzwart Markus Nagel.</p><p>Mit sportlichen Grüßen</p><p>Rainer</p>
X-ACCESS:1
X-HITS:1416
X-COLOR:00ffff
X-SHOW-END-TIME:0
END:VEVENT
BEGIN:VEVENT
DTSTART;TZID=UTC:20250308T100000
DTEND;TZID=UTC:20250308T130000
UID:9CE61C7D-60B6-474F-BD7D-99B2DE2585F8
SUMMARY:Arbeitseinsatz
CREATED:20250211T095118Z
DTSTAMP:20250211T095118Z
URL:http://www.tusampen-tennis.de/index.php/component/dpcalendar/event/35?calid=10
LAST-MODIFIED:20250211T095903Z
SEQUENCE:465
LOCATION:An der Landwehr 24\, 59494 Soest\, Nordrhein-Westfalen
GEO:51.54916340;8.05345122
X-LOCATION-DISPLAYNAME:Tennisheim TuS Ampen
X-ACCESS:1
X-HITS:754
X-COLOR:00ffff
X-SHOW-END-TIME:1
END:VEVENT
BEGIN:VEVENT
DTSTART;TZID=UTC:20250315T100000
DTEND;TZID=UTC:20250315T130000
UID:DF431DD8-D2F3-4ACF-9AFD-A348C0E77D97
SUMMARY:Arbeitseinsatz
CREATED:20250211T095118Z
DTSTAMP:20250211T095118Z
URL:http://www.tusampen-tennis.de/index.php/component/dpcalendar/event/36?calid=10
LAST-MODIFIED:20250211T095910Z
SEQUENCE:472
LOCATION:An der Landwehr 24\, 59494 Soest\, Nordrhein-Westfalen
GEO:51.54916340;8.05345122
X-LOCATION-DISPLAYNAME:Tennisheim TuS Ampen
X-ACCESS:1
X-HITS:749
X-COLOR:00ffff
X-SHOW-END-TIME:1
END:VEVENT
BEGIN:VEVENT
DTSTART;TZID=UTC:20250322T100000
DTEND;TZID=UTC:20250322T130000
UID:DE31B72D-9205-47B3-A2F2-A2EA8F445566
SUMMARY:Arbeitseinsatz
CREATED:20250211T095118Z
DTSTAMP:20250211T095118Z
URL:http://www.tusampen-tennis.de/index.php/component/dpcalendar/event/37?calid=10
LAST-MODIFIED:20250211T095915Z
SEQUENCE:477
LOCATION:An der Landwehr 24\, 59494 Soest\, Nordrhein-Westfalen
GEO:51.54916340;8.05345122
X-LOCATION-DISPLAYNAME:Tennisheim TuS Ampen
X-ACCESS:1
X-HITS:773
X-COLOR:00ffff
X-SHOW-END-TIME:1
END:VEVENT
BEGIN:VEVENT
DTSTART;TZID=UTC:20250524T100000
DTEND;TZID=UTC:20250524T130000
UID:D8523058-663D-4821-847B-58CEAE48688A
SUMMARY:Arbeitseinsatz
CREATED:20250211T095118Z
DTSTAMP:20250211T095118Z
URL:http://www.tusampen-tennis.de/index.php/component/dpcalendar/event/38?calid=10
DESCRIPTION:Vorgesehen sind allgemeine Aufräum- und Grünanlagenarbeiten, um unsere Anlage schöner zu gestalten!
X-ALT-DESC;FMTTYPE=text/html:<p>Vorgesehen sind allgemeine Aufräum- und Grünanlagenarbeiten, um unsere Anlage schöner zu gestalten!</p>
LAST-MODIFIED:20250408T205651Z
SEQUENCE:4878333
LOCATION:An der Landwehr 24\, 59494 Soest\, Nordrhein-Westfalen
GEO:51.54916340;8.05345122
X-LOCATION-DISPLAYNAME:Tennisheim TuS Ampen
X-ACCESS:1
X-HITS:994
X-COLOR:00ffff
X-SHOW-END-TIME:0
END:VEVENT
BEGIN:VEVENT
DTSTART;TZID=UTC:20251114T140000
DTEND;TZID=UTC:20251114T150000
UID:59ED207D-F3AC-485A-8EBC-0865D6DB3FA9
SUMMARY:Plätze winterfest machen
CREATED:20251013T202236Z
DTSTAMP:20251013T202236Z
URL:http://www.tusampen-tennis.de/index.php/component/dpcalendar/event/39?calid=10
DESCRIPTION:Am Freitag den 14.11.2025 ab 14 Uhr und Samstag den 15.11.2025 ab 10Uhr  wollen wir die Tennisplätze winterfest machen. Es können noch Arbeitsstunden abgeleistet werden! Um zahlreiches Erscheinen wird gebeten.
X-ALT-DESC;FMTTYPE=text/html:<p>Am Freitag den 14.11.2025 ab 14 Uhr und Samstag den 15.11.2025 ab 10Uhr&nbsp;<br /> wollen wir die Tennisplätze winterfest machen. Es können noch Arbeitsstunden abgeleistet werden!<br /> Um zahlreiches Erscheinen wird gebeten.</p>
LAST-MODIFIED:20251013T202236Z
SEQUENCE:0
LOCATION:An der Landwehr 24\, 59494 Soest\, Nordrhein-Westfalen
GEO:51.54916340;8.05345122
X-LOCATION-DISPLAYNAME:Tennisheim TuS Ampen
X-ACCESS:1
X-HITS:405
X-COLOR:00ffff
X-SHOW-END-TIME:0
END:VEVENT
BEGIN:VEVENT
DTSTART;TZID=UTC:20251115T100000
DTEND;TZID=UTC:20251115T110000
UID:FCB5BBA2-FFD2-49C9-A956-043E507E3612
SUMMARY:Plätze winterfest machen
CREATED:20251013T202317Z
DTSTAMP:20251013T202317Z
URL:http://www.tusampen-tennis.de/index.php/component/dpcalendar/event/40?calid=10
DESCRIPTION:Am Freitag den 14.11.2025 ab 14 Uhr und Samstag den 15.11.2025 ab 10Uhr  wollen wir die Tennisplätze winterfest machen. Es können noch Arbeitsstunden abgeleistet werden! Um zahlreiches Erscheinen wird gebeten.
X-ALT-DESC;FMTTYPE=text/html:<p>Am Freitag den 14.11.2025 ab 14 Uhr und Samstag den 15.11.2025 ab 10Uhr&nbsp;<br /> wollen wir die Tennisplätze winterfest machen. Es können noch Arbeitsstunden abgeleistet werden!<br /> Um zahlreiches Erscheinen wird gebeten.</p>
LAST-MODIFIED:20251013T202317Z
SEQUENCE:0
LOCATION:An der Landwehr 24\, 59494 Soest\, Nordrhein-Westfalen
GEO:51.54916340;8.05345122
X-LOCATION-DISPLAYNAME:Tennisheim TuS Ampen
X-ACCESS:1
X-HITS:460
X-COLOR:00ffff
X-SHOW-END-TIME:0
END:VEVENT
BEGIN:VEVENT
DTSTART;TZID=UTC:20251213T100000
DTEND;TZID=UTC:20251213T110000
UID:67B84FB5-BA0F-4D5A-AAD1-F4333FD3361F
SUMMARY:Arbeiten am Tennisheim
CREATED:20251208T215807Z
DTSTAMP:20251208T215807Z
URL:http://www.tusampen-tennis.de/index.php/component/dpcalendar/event/41?calid=10
DESCRIPTION:Wir möchten, sofern das Wetter es zulässt, noch einen weiteren Arbeitseinsatz durchführen. Es gäbe noch ein paar Arbeiten, die gemacht werden können. Falls es regnet, findet der Termin NICHT statt!\NDie Herren 60+ haben dankenswerterweise unter der Woche Grünzeug zurückgeschnitten!
X-ALT-DESC;FMTTYPE=text/html:<p>Wir möchten, sofern das Wetter es zulässt, noch einen weiteren Arbeitseinsatz durchführen. Es gäbe noch ein paar Arbeiten, die gemacht werden können. Falls es regnet, findet der Termin NICHT statt!</p><p>Die Herren 60+ haben dankenswerterweise unter der Woche Grünzeug zurückgeschnitten!</p>
LAST-MODIFIED:20251208T215947Z
SEQUENCE:100
LOCATION:An der Landwehr 24\, 59494 Soest\, Nordrhein-Westfalen
GEO:51.54916340;8.05345122
X-LOCATION-DISPLAYNAME:Tennisheim TuS Ampen
X-ACCESS:1
X-HITS:271
X-COLOR:00ffff
X-SHOW-END-TIME:0
END:VEVENT
BEGIN:VEVENT
DTSTART;TZID=UTC:20260307T100000
DTEND;TZID=UTC:20260307T110000
UID:A9D6B6D7-7024-47F0-A20B-16DD54E23DC6
SUMMARY:Plätze fertig machen
CREATED:20260119T171857Z
DTSTAMP:20260119T171857Z
URL:http://www.tusampen-tennis.de/index.php/component/dpcalendar/event/42?calid=10
LAST-MODIFIED:20260119T171857Z
SEQUENCE:0
LOCATION:An der Landwehr 24\, 59494 Soest\, Nordrhein-Westfalen
GEO:51.54916340;8.05345122
X-LOCATION-DISPLAYNAME:Tennisheim TuS Ampen
X-ACCESS:1
X-HITS:225
X-COLOR:00ffff
X-SHOW-END-TIME:0
END:VEVENT
BEGIN:VEVENT
DTSTART;TZID=UTC:20260314T100000
DTEND;TZID=UTC:20260314T110000
UID:D63033BE-AEF8-41C8-8DE9-CB5B8281AFCF
SUMMARY:Plätze fertig machen
CREATED:20260119T171857Z
DTSTAMP:20260119T171857Z
URL:http://www.tusampen-tennis.de/index.php/component/dpcalendar/event/43?calid=10
LAST-MODIFIED:20260119T172103Z
SEQUENCE:126
LOCATION:An der Landwehr 24\, 59494 Soest\, Nordrhein-Westfalen
GEO:51.54916340;8.05345122
X-LOCATION-DISPLAYNAME:Tennisheim TuS Ampen
X-ACCESS:1
X-HITS:231
X-COLOR:00ffff
X-SHOW-END-TIME:0
END:VEVENT
BEGIN:VEVENT
DTSTART;TZID=UTC:20260321T100000
DTEND;TZID=UTC:20260321T110000
UID:B5C5D53C-43B7-4F5C-A2F6-C176840940E2
SUMMARY:Plätze fertig machen
CREATED:20260119T171857Z
DTSTAMP:20260119T171857Z
URL:http://www.tusampen-tennis.de/index.php/component/dpcalendar/event/44?calid=10
LAST-MODIFIED:20260119T172112Z
SEQUENCE:135
LOCATION:An der Landwehr 24\, 59494 Soest\, Nordrhein-Westfalen
GEO:51.54916340;8.05345122
X-LOCATION-DISPLAYNAME:Tennisheim TuS Ampen
X-ACCESS:1
X-HITS:262
X-COLOR:00ffff
X-SHOW-END-TIME:0
END:VEVENT
BEGIN:VEVENT
DTSTART;TZID=UTC:20260411T100000
DTEND;TZID=UTC:20260411T110000
UID:F3EB1E11-24F4-462D-B332-94D97A8CBABA
SUMMARY:Plätze fertig machen (Windnetze aufhängen, etc.)
CREATED:20260401T180521Z
DTSTAMP:20260401T180521Z
URL:http://www.tusampen-tennis.de/index.php/component/dpcalendar/event/46?calid=10
LAST-MODIFIED:20260401T180521Z
SEQUENCE:0
LOCATION:An der Landwehr 24\, 59494 Soest\, Nordrhein-Westfalen
GEO:51.54916340;8.05345122
X-LOCATION-DISPLAYNAME:Tennisheim TuS Ampen
X-ACCESS:1
X-HITS:52
X-COLOR:00ffff
X-SHOW-END-TIME:0
END:VEVENT
END:VCALENDAR